BEGIN:VCALENDAR
VERSION:2.0
PRODID:-//Daumar - ECPv5.2.0//NONSGML v1.0//EN
CALSCALE:GREGORIAN
METHOD:PUBLISH
X-WR-CALNAME:Daumar
X-ORIGINAL-URL:https://web.daumar.org
X-WR-CALDESC:Eventos para Daumar
BEGIN:VTIMEZONE
TZID:Europe/Paris
BEGIN:DAYLIGHT
TZOFFSETFROM:+0100
TZOFFSETTO:+0200
TZNAME:CEST
DTSTART:20200329T010000
END:DAYLIGHT
BEGIN:STANDARD
TZOFFSETFROM:+0200
TZOFFSETTO:+0100
TZNAME:CET
DTSTART:20201025T010000
END:STANDARD
END:VTIMEZONE
BEGIN:VEVENT
DTSTART;TZID=Europe/Paris:20200301T113000
DTEND;TZID=Europe/Paris:20200301T180000
DTSTAMP:20260426T033823
CREATED:20200227T194632Z
LAST-MODIFIED:20200227T194633Z
UID:214-1583062200-1583085600@web.daumar.org
SUMMARY:Calçotada Familiar
DESCRIPTION:Vuelve la mejor Calçotada del año y esta edición ha de ser la de los récords de participantes. \n¡Compártelo con otras familias!
URL:https://web.daumar.org/events/calcotada-familiar
CATEGORIES:Familiar
END:VEVENT
END:VCALENDAR