BEGIN:VCALENDAR
VERSION:2.0
PRODID:-//Daumar - ECPv5.2.0//NONSGML v1.0//EN
CALSCALE:GREGORIAN
METHOD:PUBLISH
X-WR-CALNAME:Daumar
X-ORIGINAL-URL:https://web.daumar.org
X-WR-CALDESC:Eventos para Daumar
BEGIN:VTIMEZONE
TZID:Europe/Paris
BEGIN:DAYLIGHT
TZOFFSETFROM:+0100
TZOFFSETTO:+0200
TZNAME:CEST
DTSTART:20200329T010000
END:DAYLIGHT
BEGIN:STANDARD
TZOFFSETFROM:+0200
TZOFFSETTO:+0100
TZNAME:CET
DTSTART:20201025T010000
END:STANDARD
END:VTIMEZONE
BEGIN:VEVENT
DTSTART;TZID=Europe/Paris:20200407T180000
DTEND;TZID=Europe/Paris:20200407T190000
DTSTAMP:20260421T102448
CREATED:20200403T145108Z
LAST-MODIFIED:20200403T145108Z
UID:508-1586282400-1586286000@web.daumar.org
SUMMARY:Día de nivel
DESCRIPTION:Todos los niveles se reúnen –después de un rato de oración en el YouTube de Daumar– en una increíble conversación en línea. Lo increíble es lo bien que nos lo pasamos aunque nos encontremos cada uno en su casa… Y es que no hay que olvidar nunca que #daumarescaña \n¡Compártelo con otras familias!
URL:https://web.daumar.org/events/dia-de-nivel-3
CATEGORIES:1º ESO,2º ESO,5º,6º,Júnior
END:VEVENT
END:VCALENDAR