BEGIN:VCALENDAR
VERSION:2.0
PRODID:-//Daumar - ECPv5.2.0//NONSGML v1.0//EN
CALSCALE:GREGORIAN
METHOD:PUBLISH
X-WR-CALNAME:Daumar
X-ORIGINAL-URL:https://web.daumar.org
X-WR-CALDESC:Eventos para Daumar
BEGIN:VTIMEZONE
TZID:Europe/Paris
BEGIN:DAYLIGHT
TZOFFSETFROM:+0100
TZOFFSETTO:+0200
TZNAME:CEST
DTSTART:20200329T010000
END:DAYLIGHT
BEGIN:STANDARD
TZOFFSETFROM:+0200
TZOFFSETTO:+0100
TZNAME:CET
DTSTART:20201025T010000
END:STANDARD
END:VTIMEZONE
BEGIN:VEVENT
DTSTART;TZID=Europe/Paris:20200423T180000
DTEND;TZID=Europe/Paris:20200423T190000
DTSTAMP:20260425T173658
CREATED:20200421T091150Z
LAST-MODIFIED:20200421T094757Z
UID:526-1587664800-1587668400@web.daumar.org
SUMMARY:Football Premium Class
DESCRIPTION:Esta semana cambiamos de formato: cada equipo con su entrenador trabajará los aspectos a mejorar. Se facilitará por WhatsApp el enlace de las sesiones.  \n¡Compártelo con otras familias!
URL:https://web.daumar.org/events/football-premium-class
CATEGORIES:1º BACH,1º ESO,2º,2º BACH,2º ESO,3º,3º ESO,4º,4º ESO,5º,6º,Júnior
ATTACH;FMTTYPE=image/jpeg:https://web.daumar.org/wp-content/uploads/2020/04/images.jpeg
END:VEVENT
END:VCALENDAR