BEGIN:VCALENDAR
VERSION:2.0
PRODID:-//Daumar - ECPv5.2.0//NONSGML v1.0//EN
CALSCALE:GREGORIAN
METHOD:PUBLISH
X-WR-CALNAME:Daumar
X-ORIGINAL-URL:https://web.daumar.org
X-WR-CALDESC:Eventos para Daumar
BEGIN:VTIMEZONE
TZID:Europe/Paris
BEGIN:DAYLIGHT
TZOFFSETFROM:+0100
TZOFFSETTO:+0200
TZNAME:CEST
DTSTART:20200329T010000
END:DAYLIGHT
BEGIN:STANDARD
TZOFFSETFROM:+0200
TZOFFSETTO:+0100
TZNAME:CET
DTSTART:20201025T010000
END:STANDARD
END:VTIMEZONE
BEGIN:VEVENT
DTSTART;TZID=Europe/Paris:20200328T070000
DTEND;TZID=Europe/Paris:20200329T210000
DTSTAMP:20260426T005338
CREATED:20200327T202950Z
LAST-MODIFIED:20200327T204004Z
UID:439-1585378800-1585515600@web.daumar.org
SUMMARY:I Gran Concurso Pictórico Familiar
DESCRIPTION:Este es el reto familiar para este fin de semana. ¿Quién logrará representar mejor una obra de arte?  \nEstas son las instrucciones: \n\nSeleccionar un cuadro.\nCaracterizarse para poder representarlo con la máxima fidelidad.\nHaceos con el mejor atrezzo posible.\nPor supuesto\, ensayad las posturas y que todos aguanten en la posición correspondiente en el momento de hacer la foto.\nHaced las fotos que haga falta y una vez tengáis una seleccionada…\n…enviad la foto de la obra original y vuestra foto a club@daumar.org\n\nEl límite para recibir vuestras nuevas obras de arte son las 22:00. El lunes se publicarán las fotos y se anunciará quién es la familia vencedora. \n  \n¡Compártelo con otras familias!
URL:https://web.daumar.org/events/gran-i-concurso-pictorico-familiar-2
CATEGORIES:1º BACH,1º ESO,2º,2º BACH,2º ESO,3º,3º ESO,4º,4º ESO,5º,6º,Familiar,Júnior,Padres,UNIV
ATTACH;FMTTYPE=image/jpeg:https://web.daumar.org/wp-content/uploads/2020/03/Concurso-pictórico-familiar.jpg
ORGANIZER;CN="Daumar":MAILTO:info@daumar.org
END:VEVENT
END:VCALENDAR