BEGIN:VCALENDAR
VERSION:2.0
PRODID:-//Daumar - ECPv5.2.0//NONSGML v1.0//EN
CALSCALE:GREGORIAN
METHOD:PUBLISH
X-WR-CALNAME:Daumar
X-ORIGINAL-URL:https://web.daumar.org
X-WR-CALDESC:Eventos para Daumar
BEGIN:VTIMEZONE
TZID:Europe/Paris
BEGIN:DAYLIGHT
TZOFFSETFROM:+0100
TZOFFSETTO:+0200
TZNAME:CEST
DTSTART:20200329T010000
END:DAYLIGHT
BEGIN:STANDARD
TZOFFSETFROM:+0200
TZOFFSETTO:+0100
TZNAME:CET
DTSTART:20201025T010000
END:STANDARD
END:VTIMEZONE
BEGIN:VEVENT
DTSTART;TZID=Europe/Paris:20200330T180000
DTEND;TZID=Europe/Paris:20200330T190000
DTSTAMP:20260425T200203
CREATED:20200326T024330Z
LAST-MODIFIED:20200328T161613Z
UID:387-1585591200-1585594800@web.daumar.org
SUMMARY:Júnior: Concurso de papiroflexia
DESCRIPTION:Para Daumar Júnior\, el lunes hay un concurso muy especial\, en el que cada uno podrá demostrar sus habilidades manuales. \nEl reto será recibir del organizador del campeonato la figura que hay que hacer e intentar hacerla lo antes posible y enviar una foto por WhatsApp de Daumar  \nEl lunes a la Hora Daumar\, las seis de la tarde\, se publicará y a partir de allí\, ¡demuestra tus habiliadades! Nos conectaremos por Jitsi con el código JuniorDaumar para ver cómo vamos. \n¡Compártelo con otras familias!
URL:https://web.daumar.org/events/papiroflexia
CATEGORIES:2º,3º,4º,Júnior
ATTACH;FMTTYPE=image/jpeg:https://web.daumar.org/wp-content/uploads/2020/03/3B8A642C-73CD-4065-B15A-DA4D0375B82A.jpeg
ORGANIZER;CN="Daumar":MAILTO:info@daumar.org
END:VEVENT
END:VCALENDAR