BEGIN:VCALENDAR
VERSION:2.0
PRODID:-//Daumar - ECPv5.2.0//NONSGML v1.0//EN
CALSCALE:GREGORIAN
METHOD:PUBLISH
X-WR-CALNAME:Daumar
X-ORIGINAL-URL:https://web.daumar.org
X-WR-CALDESC:Eventos para Daumar
BEGIN:VTIMEZONE
TZID:Europe/Paris
BEGIN:DAYLIGHT
TZOFFSETFROM:+0100
TZOFFSETTO:+0200
TZNAME:CEST
DTSTART:20200329T010000
END:DAYLIGHT
BEGIN:STANDARD
TZOFFSETFROM:+0200
TZOFFSETTO:+0100
TZNAME:CET
DTSTART:20201025T010000
END:STANDARD
END:VTIMEZONE
BEGIN:VEVENT
DTSTART;TZID=Europe/Paris:20200404T070000
DTEND;TZID=Europe/Paris:20200405T210000
DTSTAMP:20260426T005158
CREATED:20200327T205232Z
LAST-MODIFIED:20200403T144209Z
UID:454-1585983600-1586120400@web.daumar.org
SUMMARY:Reto familiar del fin de semana
DESCRIPTION:No estamos viviendo unos días mágicos precisamente… Pero seguro que con un poco de voluntad sois capaces de convertir vuestro hogar en algo… extraordinario estos días… \nEl reto de este fin de semana consiste en convertiros en una familia de magos y grabar el vídeo algún truco sorprendente… ¿Os atrevéis? \n¡Compártelo con otras familias!
URL:https://web.daumar.org/events/reto-familiar-del-fin-de-semana
CATEGORIES:Familiar,Júnior
ATTACH;FMTTYPE=image/png:https://web.daumar.org/wp-content/uploads/2020/03/Captura-de-pantalla-2020-04-03-a-las-16.39.29.png
END:VEVENT
END:VCALENDAR