BEGIN:VCALENDAR
VERSION:2.0
PRODID:-//Daumar - ECPv5.2.0//NONSGML v1.0//EN
CALSCALE:GREGORIAN
METHOD:PUBLISH
X-WR-CALNAME:Daumar
X-ORIGINAL-URL:https://web.daumar.org
X-WR-CALDESC:Eventos para Daumar
BEGIN:VTIMEZONE
TZID:Europe/Paris
BEGIN:DAYLIGHT
TZOFFSETFROM:+0100
TZOFFSETTO:+0200
TZNAME:CEST
DTSTART:20200329T010000
END:DAYLIGHT
BEGIN:STANDARD
TZOFFSETFROM:+0200
TZOFFSETTO:+0100
TZNAME:CET
DTSTART:20201025T010000
END:STANDARD
END:VTIMEZONE
BEGIN:VEVENT
DTSTART;TZID=Europe/Paris:20200325T203000
DTEND;TZID=Europe/Paris:20200325T210000
DTSTAMP:20260426T033905
CREATED:20200325T122811Z
LAST-MODIFIED:20200325T122811Z
UID:377-1585168200-1585170000@web.daumar.org
SUMMARY:Reunión de 2º de ESO
DESCRIPTION:Hoy a las 20:3o se reúnen a través de Zoom Los de 2º de ESO. ¡No faltes! \n¡Compártelo con otras familias!
URL:https://web.daumar.org/events/reunion-de-2o-de-eso
CATEGORIES:2º ESO
ORGANIZER;CN="Daumar":MAILTO:info@daumar.org
END:VEVENT
END:VCALENDAR