BEGIN:VCALENDAR
VERSION:2.0
PRODID:-//Daumar - ECPv5.2.0//NONSGML v1.0//EN
CALSCALE:GREGORIAN
METHOD:PUBLISH
X-WR-CALNAME:Daumar
X-ORIGINAL-URL:https://web.daumar.org
X-WR-CALDESC:Eventos para Daumar
BEGIN:VTIMEZONE
TZID:Europe/Paris
BEGIN:DAYLIGHT
TZOFFSETFROM:+0100
TZOFFSETTO:+0200
TZNAME:CEST
DTSTART:20200329T010000
END:DAYLIGHT
BEGIN:STANDARD
TZOFFSETFROM:+0200
TZOFFSETTO:+0100
TZNAME:CET
DTSTART:20201025T010000
END:STANDARD
END:VTIMEZONE
BEGIN:VEVENT
DTSTART;TZID=Europe/Paris:20200331T180000
DTEND;TZID=Europe/Paris:20200331T190000
DTSTAMP:20260425T214836
CREATED:20200327T204237Z
LAST-MODIFIED:20200331T102214Z
UID:447-1585677600-1585681200@web.daumar.org
SUMMARY:Reunión de nivel
DESCRIPTION:Para todos los niveles\, os convocaremos por WhatsApp. \n¡Compártelo con otras familias!
URL:https://web.daumar.org/events/reunion-de-nivel
CATEGORIES:1º ESO,2º,5º,6º
ATTACH;FMTTYPE=image/jpeg:https://web.daumar.org/wp-content/uploads/2020/03/62FAA93F-10ED-4946-9EE0-9F49A3B27CC4.jpeg
ORGANIZER;CN="Daumar":MAILTO:info@daumar.org
END:VEVENT
END:VCALENDAR