BEGIN:VCALENDAR
VERSION:2.0
PRODID:-//Daumar - ECPv5.2.0//NONSGML v1.0//EN
CALSCALE:GREGORIAN
METHOD:PUBLISH
X-WR-CALNAME:Daumar
X-ORIGINAL-URL:https://web.daumar.org
X-WR-CALDESC:Eventos para Daumar
BEGIN:VTIMEZONE
TZID:Europe/Paris
BEGIN:DAYLIGHT
TZOFFSETFROM:+0100
TZOFFSETTO:+0200
TZNAME:CEST
DTSTART:20200329T010000
END:DAYLIGHT
BEGIN:STANDARD
TZOFFSETFROM:+0200
TZOFFSETTO:+0100
TZNAME:CET
DTSTART:20201025T010000
END:STANDARD
END:VTIMEZONE
BEGIN:VEVENT
DTSTART;TZID=Europe/Paris:20200424T193000
DTEND;TZID=Europe/Paris:20200424T210000
DTSTAMP:20260421T113906
CREATED:20200421T100132Z
LAST-MODIFIED:20200423T082202Z
UID:538-1587756600-1587762000@web.daumar.org
SUMMARY:Sesión para padres de 1º de ESO: Amar con sentido
DESCRIPTION:Conferencia de Carlota Olesti dirigida específicamente a padres y madres de chavales de esta edad. Hace unos meses\, tuvimos el privilegio de contar con la ponente en una sesión dirigida a familas con hijos de 6º de Primaria. Esperemos que os interese. \n¡Compártelo con otras familias!
URL:https://web.daumar.org/events/sesion-para-padres-de-1o-de-eso-amar-con-sentido
CATEGORIES:1º ESO
ATTACH;FMTTYPE=image/jpeg:https://web.daumar.org/wp-content/uploads/2020/04/WhatsApp-Image-2020-04-19-at-18.43.50.jpeg
END:VEVENT
END:VCALENDAR